BEGIN:VCALENDAR
VERSION:2.0
PRODID:-//BCF - ECPv6.10.0//NONSGML v1.0//EN
CALSCALE:GREGORIAN
METHOD:PUBLISH
X-WR-CALNAME:BCF
X-ORIGINAL-URL:https://www.burmantofts.org.uk
X-WR-CALDESC:Events for BCF
REFRESH-INTERVAL;VALUE=DURATION:PT1H
X-Robots-Tag:noindex
X-PUBLISHED-TTL:PT1H
BEGIN:VTIMEZONE
TZID:UTC
BEGIN:STANDARD
TZOFFSETFROM:+0000
TZOFFSETTO:+0000
TZNAME:UTC
DTSTART:20250101T000000
END:STANDARD
END:VTIMEZONE
BEGIN:VEVENT
DTSTART;TZID=UTC:20250403T113000
DTEND;TZID=UTC:20250403T143000
DTSTAMP:20260423T101348
CREATED:20250228T134720Z
LAST-MODIFIED:20250228T134720Z
UID:962-1743679800-1743690600@www.burmantofts.org.uk
SUMMARY:BCF Bingo Bash
DESCRIPTION:🎉🎱 Bingo Bash – Join the Fun! 🎱🎉 \nGet ready for a fantastic Bingo Bash with Burmantofts Community Friends! A great afternoon of bingo\, prizes\, and plenty of laughs awaits—come along and enjoy the fun! \n📅 Date: Thursday 3rd April 📍 Location: Stoney Rock Court Community Room⏰ Time: 11:30 to 2:30💰 Cost: £6 per person \nBring your friends\, test your luck\, and let’s make it a great time together! Everyone welcome! \n📞 Contact us to book your spot. \n#BingoBash #FunAndFriendship #BurmantoftsFriends #CommunityEvent
URL:https://www.burmantofts.org.uk/event/bcf-bingo-bash/
CATEGORIES:Events
ATTACH;FMTTYPE=image/jpeg:https://www.burmantofts.org.uk/wp-content/uploads/2025/02/BCF-Newsletter-Edtion-1-Feb-2025-Digital-Copy-page-007.jpg
END:VEVENT
BEGIN:VEVENT
DTSTART;TZID=UTC:20250424T093000
DTEND;TZID=UTC:20250424T180000
DTSTAMP:20260423T101348
CREATED:20250228T132815Z
LAST-MODIFIED:20250228T133046Z
UID:954-1745487000-1745517600@www.burmantofts.org.uk
SUMMARY:BCF Trip to Liverpool
DESCRIPTION:🚍✨ Join Us for a Trip to Liverpool! ✨🚍 \nBurmantofts Community Friends is heading to Liverpool for a fantastic day out! Explore the city’s history\, culture\, and famous sights with great company. 🏛️⚓🎶 \n📅 Date: Thursday 27th March🚌 Coach: 47-seater💰 Cost: £12 per person✅ Booking essential! \nSpaces are limited\, so book your seat now! Contact us to secure your place. \n#LiverpoolTrip #DayOut #BurmantoftsFriends #CommunityAdventure
URL:https://www.burmantofts.org.uk/event/bcf-trip-to-liverpool/
ATTACH;FMTTYPE=image/jpeg:https://www.burmantofts.org.uk/wp-content/uploads/2025/02/BCF-Newsletter-Edtion-1-Feb-2025-Digital-Copy-page-005-1.jpg
END:VEVENT
END:VCALENDAR